BEGIN:VCALENDAR
VERSION:2.0
PRODID:-//Unicentro
CALSCALE:GREGORIAN
METHOD:PUBLISH
X-WR-CALNAME:Unicentro
X-ORIGINAL-URL:https://www3.unicentro.br/eventos/iii-congresso-internacional-e-historia-unicentrouepg/
X-WR-CALDESC:III Congresso Internacional e História &#8211; Unicentro/UEPG
BEGIN:VEVENT
DTSTART:20171122T000000
DTEND:20171124T000000
SUMMARY:III Congresso Internacional e História &#8211; Unicentro/UEPG
DESCRIPTION:
LOCATION:PR 153, Km 7, s/n - Riozinho, Irati - PR, 84500-000
END:VEVENT
END:VCALENDAR
