BEGIN:VCALENDAR
VERSION:2.0
PRODID:-//Unicentro
CALSCALE:GREGORIAN
METHOD:PUBLISH
X-WR-CALNAME:Unicentro
X-ORIGINAL-URL:https://www3.unicentro.br/eventos/iii-seminario-de-estudos-em-secretariado-executivo-empregabilidade-e-formacao-profissional/
X-WR-CALDESC:III Seminário de Estudos em Secretariado Executivo – Empregabilidade e Formação Profissional
BEGIN:VEVENT
DTSTART:20170912T190000
DTEND:20170915T233000
SUMMARY:III Seminário de Estudos em Secretariado Executivo – Empregabilidade e Formação Profissional
DESCRIPTION:O III Seminário de Estudos em Secretariado Executivo da Unicentro, objetiva explorar discussões no que tangem ao mercado de trabalho na assessoria executiva em organizações públicas e privadas, bem como propiciar reflexões sobre a carreira docente. Deste modo, dialogar as possíveis áreas de atuação, dos acadêmicos e profissionais de secretariado executivo propiciará aos participantes do evento uma ampliação acerca das distintas possibilidades mercadológicas do secretário executivo, como por exemplo, gestão, assessoria, consultoria e empreendedorismo.
LOCATION:R. Salvatore Renna, 875 - Santa Cruz, Guarapuava - PR, 85015-430
END:VEVENT
END:VCALENDAR
