BEGIN:VCALENDAR
VERSION:2.0
PRODID:-//Unicentro
CALSCALE:GREGORIAN
METHOD:PUBLISH
X-WR-CALNAME:Unicentro
X-ORIGINAL-URL:https://www3.unicentro.br/eventos/seguranca-em-pauta/
X-WR-CALDESC:Segurança em Pauta
BEGIN:VEVENT
DTSTART:20170904T070000
DTEND:20170904T110000
SUMMARY:Segurança em Pauta
DESCRIPTION:No dia 4 de setembro, o campus Santa Cruz da Unicentro sedia o evento "Segurança em Pauta", para tratar sobre assunto nos arredores dos campi universitários. Venha contribuir para o debate e ajudar na melhora da segurança de toda comunidade!
LOCATION:R. Salvatore Renna, 875 - Santa Cruz, Guarapuava - PR, 85015-430
END:VEVENT
END:VCALENDAR
