BEGIN:VCALENDAR
VERSION:2.0
PRODID:-//Unicentro
CALSCALE:GREGORIAN
METHOD:PUBLISH
X-WR-CALNAME:Unicentro
X-ORIGINAL-URL:https://www3.unicentro.br/eventos/xxiv-ciclo-de-estudos-contabeis/
X-WR-CALDESC:XXIV Ciclo de Estudos Contábeis
BEGIN:VEVENT
DTSTART:20170919T180000
DTEND:20170922T220000
SUMMARY:XXIV Ciclo de Estudos Contábeis
DESCRIPTION:Inscrições de 22/08 a 13/09
LOCATION:Unicentro - Campus Santa Cruz
END:VEVENT
END:VCALENDAR
