BEGIN:VCALENDAR
VERSION:2.0
PRODID:-//Unicentro
CALSCALE:GREGORIAN
METHOD:PUBLISH
X-WR-CALNAME:Unicentro
X-ORIGINAL-URL:https://www3.unicentro.br/eventos/xvii-semana-de-estudos-de-ciencias-economicas/
X-WR-CALDESC:XVII Semana de Estudos de Ciências Econômicas
BEGIN:VEVENT
DTSTART:20170919T000000
DTEND:20170922T000000
SUMMARY:XVII Semana de Estudos de Ciências Econômicas
DESCRIPTION:O Departamento de Ciências Econômicas da Unicentro tem o prazer de convidá-lo para participar da XVII Semana de Economia, que será realizada no Campus Santa Cruz (Guarapuava) e Campus Avançado de Pitanga, no período de 19 a 22 de setembro de 2017.
A Semana de Economia 2017, que tem como o tema principal "Economia brasileira - desafios e perspectivas", será aberta com a palestra "Desafios para a retomada do crescimento econômico no Brasil", a ser proferida pela Profa. Dra. Eliane Cristina de Araújo (UEM).
LOCATION:R. Salvatore Renna, 875 - Santa Cruz, Guarapuava - PR, 85015-430
END:VEVENT
END:VCALENDAR
