BEGIN:VCALENDAR
VERSION:2.0
PRODID:-//Unicentro
CALSCALE:GREGORIAN
METHOD:PUBLISH
X-WR-CALNAME:Unicentro
X-ORIGINAL-URL:https://www3.unicentro.br/eventos/palestra-suicidio-conhecer-para-prevenir/
X-WR-CALDESC:Palestra &#8220;Suicídio: conhecer para prevenir&#8221;
BEGIN:VEVENT
DTSTART:20170905T190000
DTEND:20170805T213000
SUMMARY:Palestra &#8220;Suicídio: conhecer para prevenir&#8221;
DESCRIPTION:Palestra abordando a prevenção do suicídio, sendo um evento alusivo ao "Setembro Amarelo", movimento trazido ao Brasil pelo CVV (Centro de Valorização da Vida), CFM (Conselho Federal de Medicina) e ABP (Associação Brasileira de Psiquiatria), e que acontece no mês em que se lembra o Dia Mundial de Prevenção do Suicídio (10 de setembro).
LOCATION:Unicentro, Campus Santa Cruz e Campus e Irati
END:VEVENT
END:VCALENDAR
