BEGIN:VCALENDAR
VERSION:2.0
PRODID:-//Unicentro
CALSCALE:GREGORIAN
METHOD:PUBLISH
X-WR-CALNAME:Unicentro
X-ORIGINAL-URL:https://www3.unicentro.br/eventos/1o-encontro-de-pesquisa-em-alimentacao-e-nutricao/
X-WR-CALDESC:1º Encontro de Pesquisa em Alimentação e Nutrição
BEGIN:VEVENT
DTSTART:20170831T133000
DTEND:20170831T173000
SUMMARY:1º Encontro de Pesquisa em Alimentação e Nutrição
DESCRIPTION:Trata-se de um evento de extensão com duração de 04 horas, a ser realizado no Auditório Central do Campus Cedeteg.
LOCATION:R. Simeão Varela de Sá, 03 - Vila Carli, Guarapuava - PR, 85040-080
END:VEVENT
END:VCALENDAR
