BEGIN:VCALENDAR
VERSION:2.0
PRODID:-//Unicentro
CALSCALE:GREGORIAN
METHOD:PUBLISH
X-WR-CALNAME:Unicentro
X-ORIGINAL-URL:https://www3.unicentro.br/eventos/webinario-bolsas-mitacs-globalink/
X-WR-CALDESC:Webinário Bolsas Mitacs-Globalink
BEGIN:VEVENT
DTSTART:20220905T180000
DTEND:20220905T200000
SUMMARY:Webinário Bolsas Mitacs-Globalink
DESCRIPTION:
LOCATION:
END:VEVENT
END:VCALENDAR
