BEGIN:VCALENDAR
VERSION:2.0
PRODID:-//Unicentro
CALSCALE:GREGORIAN
METHOD:PUBLISH
X-WR-CALNAME:Unicentro
X-ORIGINAL-URL:https://www3.unicentro.br/eventos/live-responsabilidade-social-2022/
X-WR-CALDESC:Live Responsabilidade Social 2022
BEGIN:VEVENT
DTSTART:20220901T193000
DTEND:20220901T220000
SUMMARY:Live Responsabilidade Social 2022
DESCRIPTION:A LIVE de Responsabilidade Social tem como o objetivo de proporcionar um espaço de disseminação e discussão de conhecimentos direcionados à temática, visando à confrontação entre a visão dos três palestrantes acerca dos principais desafios empresariais atuais e futuros sobre Responsabilidade Social. Os três palestrantes serão: - Júlia Berticelli Basso - Responsável pela Sustentabilidade Corporativa da RAC Engenharia; - Paulino Lorenzo - Diretor de Operações do Cilla Tech Park; - Isabela Queiroz - Responsável pelo Celeiro de Inovações do Cilla Tech Park. O evento é proporcionado pelo Setor de Ciências Sociais Aplicadas do Campus de Irati. Contamos com a participação da nossa Comunidade Acadêmica.
LOCATION:
END:VEVENT
END:VCALENDAR
