BEGIN:VCALENDAR
VERSION:2.0
PRODID:-//Unicentro
CALSCALE:GREGORIAN
METHOD:PUBLISH
X-WR-CALNAME:Unicentro
X-ORIGINAL-URL:https://www3.unicentro.br/eventos/palestra-etica-em-pesquisa-e-integridade-academica-problemas-e-perspectivas/
X-WR-CALDESC:Palestra: Ética em pesquisa e integridade acadêmica: problemas e perspectivas
BEGIN:VEVENT
DTSTART:20220914T190000
DTEND:20220914T230000
SUMMARY:Palestra: Ética em pesquisa e integridade acadêmica: problemas e perspectivas
DESCRIPTION:Palestrante Dr. Jefferson Mainardes.
LOCATION:
END:VEVENT
END:VCALENDAR
