BEGIN:VCALENDAR
VERSION:2.0
PRODID:-//Unicentro
CALSCALE:GREGORIAN
METHOD:PUBLISH
X-WR-CALNAME:Unicentro
X-ORIGINAL-URL:https://www3.unicentro.br/eventos/campanha-agosto-dourado-mes-de-incentivo-ao-aleitamento-materno/
X-WR-CALDESC:Campanha Agosto Dourado &#8211; Mês de Incentivo ao Aleitamento Materno
BEGIN:VEVENT
DTSTART:20220824T090000
DTEND:20220824T100000
SUMMARY:Campanha Agosto Dourado &#8211; Mês de Incentivo ao Aleitamento Materno
DESCRIPTION:
LOCATION:Rua Professora Maria Roza Zanon de Almeida Engenheiro - Gutierrez, Irati - PR, 84505-677
END:VEVENT
END:VCALENDAR
