BEGIN:VCALENDAR
VERSION:2.0
PRODID:-//Unicentro
CALSCALE:GREGORIAN
METHOD:PUBLISH
X-WR-CALNAME:Unicentro
X-ORIGINAL-URL:https://www3.unicentro.br/eventos/xii-simposio-de-pesquisa-pos-graduacao-e-inovacao-da-unicentro/
X-WR-CALDESC:XII Simpósio de Pesquisa, Pós-Graduação e Inovação da Unicentro
BEGIN:VEVENT
DTSTART:20220823T000000
DTEND:20220825T000000
SUMMARY:XII Simpósio de Pesquisa, Pós-Graduação e Inovação da Unicentro
DESCRIPTION:O XII Simpósio de Pesquisa, Pós-Graduação e Inovação da Unicentro será realizado no formato híbrido, porém com a programação majoritariamente presencial. Dessa forma, basta optar pela participação no Câmpus Cedeteg. Ou, caso deseje participar apenas das atividades remotas, opte por “Ambiente Virtual”. Ou ainda, poderá optar por Câmpus de Irati, caso tenha interesse em participar apenas das atividades daquele câmpus.
LOCATION:Alameda Élio Antonio Dalla Vecchia, 838 - CEP 85040-167 - Bairro - Vila Carli, Guarapuava - PR
END:VEVENT
END:VCALENDAR
