BEGIN:VCALENDAR
VERSION:2.0
PRODID:-//Unicentro
CALSCALE:GREGORIAN
METHOD:PUBLISH
X-WR-CALNAME:Unicentro
X-ORIGINAL-URL:https://www3.unicentro.br/eventos/didatica-universitaria-a-dinamica-da-ensinagem-encontro-presencial/
X-WR-CALDESC:Didática Universitária: a dinâmica da ensinagem &#8211; Encontro Presencial
BEGIN:VEVENT
DTSTART:20220817T140000
DTEND:20220817T170000
SUMMARY:Didática Universitária: a dinâmica da ensinagem &#8211; Encontro Presencial
DESCRIPTION:O Programa Entredocentes surgiu da necessidade de proporcionar a formação pedagógica continuada aos professores da Unicentro. Recuperando experiências bem sucedidas que tinham esse mesmo objetivo, o Entredocentes assume o desafio da formação continuada, da pesquisa que tem como foco a docência universitária, da reflexão sobre o fazer pedagógico e da disseminação das boas práticas.
LOCATION:Auditório PDE - Câmpus de Irati
END:VEVENT
END:VCALENDAR
