BEGIN:VCALENDAR
VERSION:2.0
PRODID:-//Unicentro
CALSCALE:GREGORIAN
METHOD:PUBLISH
X-WR-CALNAME:Unicentro
X-ORIGINAL-URL:https://www3.unicentro.br/eventos/xxvi-semana-de-estudos-em-biologia-da-unicentro-sebio-2022/
X-WR-CALDESC:XXVI Semana de Estudos em Biologia da Unicentro, Sebio 2022
BEGIN:VEVENT
DTSTART:20220919T000000
DTEND:20220923T000000
SUMMARY:XXVI Semana de Estudos em Biologia da Unicentro, Sebio 2022
DESCRIPTION:O principal objetivo é destacar as diferentes possibilidades de atuação do Biólogo em temas de importância regional, desde a formação de profissionais que atuam na área de educação, geração de serviços e produtos, bem como na preservação do ambiente natural. O evento permitirá a atualização dos novos profissionais do futuro, como o olhar atento ao uso de novas metodologias científicas e experimentais no campo biológico frente às necessidades locais atuais. Evento imperdível para os profissionais da área.
LOCATION:
END:VEVENT
END:VCALENDAR
