BEGIN:VCALENDAR
VERSION:2.0
PRODID:-//Unicentro
CALSCALE:GREGORIAN
METHOD:PUBLISH
X-WR-CALNAME:Unicentro
X-ORIGINAL-URL:https://www3.unicentro.br/eventos/inauguracao-das-novas-instalacoes-da-ouvidoria/
X-WR-CALDESC:Inauguração das novas instalações da Ouvidoria
BEGIN:VEVENT
DTSTART:20220817T150000
DTEND:20220817T160000
SUMMARY:Inauguração das novas instalações da Ouvidoria
DESCRIPTION:
LOCATION:Hall de Entrada do Câmpus Santa Cruz. Rua Padre, R. Salvatore Renna, 875 - Santa Cruz, Guarapuava - PR, 85015-430
END:VEVENT
END:VCALENDAR
