BEGIN:VCALENDAR
VERSION:2.0
PRODID:-//Unicentro
CALSCALE:GREGORIAN
METHOD:PUBLISH
X-WR-CALNAME:Unicentro
X-ORIGINAL-URL:https://www3.unicentro.br/eventos/xxxv-encontro-da-arte-folclorica-noite-cultural/
X-WR-CALDESC:XXXV Encontro da Arte Folclórica &#8211; Noite Cultural: Fundação Cultura Suábio-Brasileira
BEGIN:VEVENT
DTSTART:20220818T193000
DTEND:20220818T213000
SUMMARY:XXXV Encontro da Arte Folclórica &#8211; Noite Cultural: Fundação Cultura Suábio-Brasileira
DESCRIPTION:
LOCATION:
END:VEVENT
END:VCALENDAR
