BEGIN:VCALENDAR
VERSION:2.0
PRODID:-//Unicentro
CALSCALE:GREGORIAN
METHOD:PUBLISH
X-WR-CALNAME:Unicentro
X-ORIGINAL-URL:https://www3.unicentro.br/eventos/xxxv-encontro-da-arte-folclorica-gruppo-anima/
X-WR-CALDESC:XXXV Encontro da Arte Folclórica &#8211; Gruppo Folkloristico Anima / Grupo de Sança Nejma Naiyrá
BEGIN:VEVENT
DTSTART:20220817T193000
DTEND:20220817T213000
SUMMARY:XXXV Encontro da Arte Folclórica &#8211; Gruppo Folkloristico Anima / Grupo de Sança Nejma Naiyrá
DESCRIPTION:
LOCATION:
END:VEVENT
END:VCALENDAR
