BEGIN:VCALENDAR
VERSION:2.0
PRODID:-//Unicentro
CALSCALE:GREGORIAN
METHOD:PUBLISH
X-WR-CALNAME:Unicentro
X-ORIGINAL-URL:https://www3.unicentro.br/eventos/xxxv-encontro-da-arte-folclorica-viagem-sonora/
X-WR-CALDESC:XXXV Encontro da Arte Folclórica &#8211; Viagem sonora pelo universo do Folclore: apresentações artísticas
BEGIN:VEVENT
DTSTART:20220816T193000
DTEND:20220816T213000
SUMMARY:XXXV Encontro da Arte Folclórica &#8211; Viagem sonora pelo universo do Folclore: apresentações artísticas
DESCRIPTION:
LOCATION:
END:VEVENT
END:VCALENDAR
