BEGIN:VCALENDAR
VERSION:2.0
PRODID:-//Unicentro
CALSCALE:GREGORIAN
METHOD:PUBLISH
X-WR-CALNAME:Unicentro
X-ORIGINAL-URL:https://www3.unicentro.br/eventos/xxxv-encontro-da-arte-folclorica-studio-danca/
X-WR-CALDESC:XXXV Encontro da Arte Folclórica &#8211; Studio de dança Raqs Mahira / Grupo Espanhol Embrujo Andaluz
BEGIN:VEVENT
DTSTART:20220819T193000
DTEND:20220819T213000
SUMMARY:XXXV Encontro da Arte Folclórica &#8211; Studio de dança Raqs Mahira / Grupo Espanhol Embrujo Andaluz
DESCRIPTION:
LOCATION:
END:VEVENT
END:VCALENDAR
