BEGIN:VCALENDAR
VERSION:2.0
PRODID:-//Unicentro
CALSCALE:GREGORIAN
METHOD:PUBLISH
X-WR-CALNAME:Unicentro
X-ORIGINAL-URL:https://www3.unicentro.br/eventos/xxxv-encontro-da-arte-folclorica-3/
X-WR-CALDESC:XXXV Encontro da Arte Folclórica &#8211; Noite Gaúcha: apresentações artísticas
BEGIN:VEVENT
DTSTART:20220815T193000
DTEND:20220815T213000
SUMMARY:XXXV Encontro da Arte Folclórica &#8211; Noite Gaúcha: apresentações artísticas
DESCRIPTION:
LOCATION:
END:VEVENT
END:VCALENDAR
