BEGIN:VCALENDAR
VERSION:2.0
PRODID:-//Unicentro
CALSCALE:GREGORIAN
METHOD:PUBLISH
X-WR-CALNAME:Unicentro
X-ORIGINAL-URL:https://www3.unicentro.br/eventos/importancia-da-visao-estrategica-do-profissional-contabil/
X-WR-CALDESC:Importância da Visão Estratégica do Profissional Contábil
BEGIN:VEVENT
DTSTART:20220810T190000
DTEND:20220810T230000
SUMMARY:Importância da Visão Estratégica do Profissional Contábil
DESCRIPTION:Inscrições: Início - 29 de julho, 16 horas. Término - 10 de agosto, 19 horas.
LOCATION:
END:VEVENT
END:VCALENDAR
