BEGIN:VCALENDAR
VERSION:2.0
PRODID:-//Unicentro
CALSCALE:GREGORIAN
METHOD:PUBLISH
X-WR-CALNAME:Unicentro
X-ORIGINAL-URL:https://www3.unicentro.br/eventos/noite-dos-livros-na-unicentro/
X-WR-CALDESC:Noite dos Livros na Unicentro
BEGIN:VEVENT
DTSTART:20220805T190000
DTEND:20220805T220000
SUMMARY:Noite dos Livros na Unicentro
DESCRIPTION:Inscrições: Início: 29 de julho, 12h. Término: 5 de agosto, 19h.
LOCATION:R. Cândido de Abreu, 1636 - Prudentópolis-PR
END:VEVENT
END:VCALENDAR
