BEGIN:VCALENDAR
VERSION:2.0
PRODID:-//Unicentro
CALSCALE:GREGORIAN
METHOD:PUBLISH
X-WR-CALNAME:Unicentro
X-ORIGINAL-URL:https://www3.unicentro.br/eventos/didatica-universitaria-a-dinamica-da-ensinagem/
X-WR-CALDESC:Didática Universitária: a dinâmica da ensinagem
BEGIN:VEVENT
DTSTART:20220810T140000
DTEND:20220810T030000
SUMMARY:Didática Universitária: a dinâmica da ensinagem
DESCRIPTION:
LOCATION:
END:VEVENT
END:VCALENDAR
