BEGIN:VCALENDAR
VERSION:2.0
PRODID:-//Unicentro
CALSCALE:GREGORIAN
METHOD:PUBLISH
X-WR-CALNAME:Unicentro
X-ORIGINAL-URL:https://www3.unicentro.br/eventos/semana-mundial-de-aleitamento-materno-celebrando-30-anos/
X-WR-CALDESC:Semana Mundial de Aleitamento Materno &#8211; Celebrando 30 Anos
BEGIN:VEVENT
DTSTART:20220817T183000
DTEND:20220817T223000
SUMMARY:Semana Mundial de Aleitamento Materno &#8211; Celebrando 30 Anos
DESCRIPTION:Evento em comemoração aos 30 Anos da SMAM - Semana Mundial de Aleitamento Materno que acontece desde 1992 como uma iniciativa da WABA (World Alliance for Breastfeeding Action). Esse evento faz parte do Projeto de Extensão "Núcleo de Estudos, Promoção e Proteção do Aleitamento Materno (NUMAME) que tem como objetivos inserir os alunos da graduação do curso de enfermagem e demais cursos da área de saúde no projeto, enfocando a temática através do ensino, atividades extensionistas e pesquisa; bem como realizar educação em saúde sobre a prática do aleitamento materno e sobre a doação de leite humano com profissionais da área de saúde e comunidade.
LOCATION:Alameda Élio Antonio Dalla Vecchia, 838 - CEP 85040-167 - Bairro - Vila Carli, Guarapuava - PR
END:VEVENT
END:VCALENDAR
