BEGIN:VCALENDAR
VERSION:2.0
PRODID:-//Unicentro
CALSCALE:GREGORIAN
METHOD:PUBLISH
X-WR-CALNAME:Unicentro
X-ORIGINAL-URL:https://www3.unicentro.br/eventos/conferencia-de-abertura-do-ano-letivo-de-2022-sesa-i-educacao-em-tempos-de-intolerancia/
X-WR-CALDESC:Conferência de Abertura do Ano Letivo de 2022-SESA/I &#8211; Educação em tempos de Intolerância
BEGIN:VEVENT
DTSTART:20220802T193000
DTEND:20220802T223000
SUMMARY:Conferência de Abertura do Ano Letivo de 2022-SESA/I &#8211; Educação em tempos de Intolerância
DESCRIPTION:Inscrições: Início: 28 de julho, 12h. Término: 2 de agosto, 20h.
LOCATION:
END:VEVENT
END:VCALENDAR
