BEGIN:VCALENDAR
VERSION:2.0
PRODID:-//Unicentro
CALSCALE:GREGORIAN
METHOD:PUBLISH
X-WR-CALNAME:Unicentro
X-ORIGINAL-URL:https://www3.unicentro.br/eventos/ressignificar-o-ensino-superior-aprendizagens-complexas/
X-WR-CALDESC:Ressignificar o Ensino Superior: Aprendizagens Complexas
BEGIN:VEVENT
DTSTART:20220725T140000
DTEND:20220726T140000
SUMMARY:Ressignificar o Ensino Superior: Aprendizagens Complexas
DESCRIPTION:
LOCATION:Campus Santa Cruz e Campus Irati
END:VEVENT
END:VCALENDAR
