BEGIN:VCALENDAR
VERSION:2.0
PRODID:-//Unicentro
CALSCALE:GREGORIAN
METHOD:PUBLISH
X-WR-CALNAME:Unicentro
X-ORIGINAL-URL:https://www3.unicentro.br/eventos/i-jornada-de-escrita-criativa-na-universidade-e-concurso-de-poemas-laura-santos/
X-WR-CALDESC:I Jornada de Escrita Criativa na Universidade e Concurso de Poemas Laura Santos
BEGIN:VEVENT
DTSTART:20220801T000000
DTEND:20220803T000000
SUMMARY:I Jornada de Escrita Criativa na Universidade e Concurso de Poemas Laura Santos
DESCRIPTION:
LOCATION:
END:VEVENT
END:VCALENDAR
