BEGIN:VCALENDAR
VERSION:2.0
PRODID:-//Unicentro
CALSCALE:GREGORIAN
METHOD:PUBLISH
X-WR-CALNAME:Unicentro
X-ORIGINAL-URL:https://www3.unicentro.br/eventos/feira-de-ideias/
X-WR-CALDESC:Feira de Ideias 2022
BEGIN:VEVENT
DTSTART:20220713T190000
DTEND:20220713T220000
SUMMARY:Feira de Ideias 2022
DESCRIPTION:Ao final, haverá um grande evento, onde você terá a oportunidade de apresentar o seu negócio, ganhando, inclusive, visibilidade para possíveis investidores.
LOCATION:Auditório Francisco Contini. Rua Padre, R. Salvatore Renna, 875 - Santa Cruz, Guarapuava - PR, 85015-430
END:VEVENT
END:VCALENDAR
