BEGIN:VCALENDAR
VERSION:2.0
PRODID:-//Unicentro
CALSCALE:GREGORIAN
METHOD:PUBLISH
X-WR-CALNAME:Unicentro
X-ORIGINAL-URL:https://www3.unicentro.br/eventos/aula-inaugural-sonho-e-resiliencia-uma-historia-de-empreendedorismo/
X-WR-CALDESC:Aula Inaugural Sonho e Resiliência: uma História de Empreendedorismo
BEGIN:VEVENT
DTSTART:20220630T193000
DTEND:20220630T223000
SUMMARY:Aula Inaugural Sonho e Resiliência: uma História de Empreendedorismo
DESCRIPTION:Período de Inscrições: 24 de junho de 2022 a 30 de junho de 2022 (19 horas)
LOCATION:
END:VEVENT
END:VCALENDAR
