BEGIN:VCALENDAR
VERSION:2.0
PRODID:-//Unicentro
CALSCALE:GREGORIAN
METHOD:PUBLISH
X-WR-CALNAME:Unicentro
X-ORIGINAL-URL:https://www3.unicentro.br/eventos/aula-inaugural-campus-avancado-de-prudentopolis/
X-WR-CALDESC:Aula Inaugural Campus Avançado de Prudentópolis
BEGIN:VEVENT
DTSTART:20220630T190000
DTEND:20220630T230000
SUMMARY:Aula Inaugural Campus Avançado de Prudentópolis
DESCRIPTION:
LOCATION:Rua Candido de Abreu, 1636, Prudentópolis-PR
END:VEVENT
END:VCALENDAR
