BEGIN:VCALENDAR
VERSION:2.0
PRODID:-//Unicentro
CALSCALE:GREGORIAN
METHOD:PUBLISH
X-WR-CALNAME:Unicentro
X-ORIGINAL-URL:https://www3.unicentro.br/eventos/lancamento-do-livro-banqueteando-saberes/
X-WR-CALDESC:Lançamento do Livro Banqueteando Saberes
BEGIN:VEVENT
DTSTART:20220630T190000
DTEND:20220630T213000
SUMMARY:Lançamento do Livro Banqueteando Saberes
DESCRIPTION:A construção deste livro é resultado da programação da Mostra de Arte realizada virtualmente nos dias 19 a 23 de abril de 2021. A organização deste livro, realizada pelas professoras Daiane Solange Stoeberl da Cunha, Desirée Paschoal de Melo e Graziela Medeiros Guadagnini, contou com apoio do Departamento de Arte da Unicentro. Desta forma, apresentamos nesta obra capítulos que referem-se a temáticas específicas abordadas na Mostra de Arte de Abril de 2021; e com este banquete buscamos registrar, publicar e, de certa forma, eternizar os saberes que nortearam as palestras, mesas-redondas, comunicações, oficinas e produções artísticas realizadas por alguns dos convidados e participantes do evento durante a programação do evento. Esta obra aborda a temática da Arte com múltiplos enfoques, trazendo textos que refletem sobre temáticas e experiências do ensino de arte, assim como pesquisas e relatos de experiências e reflexões acerca de processos criativos e abordagens teóricas sobre Arte.
LOCATION:R. Mal. Floriano Peixoto, 1399 - Centro, Guarapuava - PR, 85010-250
END:VEVENT
END:VCALENDAR
