BEGIN:VCALENDAR
VERSION:2.0
PRODID:-//Unicentro
CALSCALE:GREGORIAN
METHOD:PUBLISH
X-WR-CALNAME:Unicentro
X-ORIGINAL-URL:https://www3.unicentro.br/eventos/apresentacao-da-peca-de-teatro-tearesia/
X-WR-CALDESC:Apresentação da peça de teatro Tearesia
BEGIN:VEVENT
DTSTART:20220714T193000
DTEND:20220714T213000
SUMMARY:Apresentação da peça de teatro Tearesia
DESCRIPTION:A peça teatral “Tearesia” conta a história das três tecelãs do destino, irmãs, filhas da noite, as moiras são: Cloto (responsável por tecer o fio da vida) Láquesis (quem cuida da extensão e caminho) e Átropos (que corta o fio da vida). Essas mulheres têm a sua magia roubada por seres míticos, sendo obrigadas a tecer em si próprias o ciclo da vida-morte-vida para recuperar suas forças e conseguirem lutar por aquilo que é delas.
LOCATION:Rua Padre, R. Salvatore Renna, 875 - Santa Cruz, Guarapuava - PR, 85015-430
END:VEVENT
END:VCALENDAR
