BEGIN:VCALENDAR
VERSION:2.0
PRODID:-//Unicentro
CALSCALE:GREGORIAN
METHOD:PUBLISH
X-WR-CALNAME:Unicentro
X-ORIGINAL-URL:https://www3.unicentro.br/eventos/aula-inaugural-do-curso-pre-vestibular-unicentro-2022/
X-WR-CALDESC:Aula Inaugural do Curso Pré-Vestibular Unicentro 2022
BEGIN:VEVENT
DTSTART:20220704T190000
DTEND:20220704T230000
SUMMARY:Aula Inaugural do Curso Pré-Vestibular Unicentro 2022
DESCRIPTION:Aula inaugural no dia 04 de julho (segunda-feira), às 19h, no Auditório do Prédio PDE, Câmpus Cedeteg
LOCATION:Alameda Élio Antonio Dalla Vecchia, 838 - CEP 85040-167 - Bairro - Vila Carli, Guarapuava - PR
END:VEVENT
END:VCALENDAR
