BEGIN:VCALENDAR
VERSION:2.0
PRODID:-//Unicentro
CALSCALE:GREGORIAN
METHOD:PUBLISH
X-WR-CALNAME:Unicentro
X-ORIGINAL-URL:https://www3.unicentro.br/eventos/lancamento-do-livro-extensao-e-comunidade-promovendo-troca-de-saberes/
X-WR-CALDESC:Lançamento do livro: Extensão e Comunidade–Promovendo Troca de Saberes
BEGIN:VEVENT
DTSTART:20220629T153000
DTEND:20220629T173000
SUMMARY:Lançamento do livro: Extensão e Comunidade–Promovendo Troca de Saberes
DESCRIPTION:O lançamento será, às 15h30, no Centro de Exposições da Proec, no Câmpus Santa Cruz.
LOCATION:Rua Padre, R. Salvatore Renna, 875 - Santa Cruz, Guarapuava - PR, 85015-430
END:VEVENT
END:VCALENDAR
