BEGIN:VCALENDAR
VERSION:2.0
PRODID:-//Unicentro
CALSCALE:GREGORIAN
METHOD:PUBLISH
X-WR-CALNAME:Unicentro
X-ORIGINAL-URL:https://www3.unicentro.br/eventos/comemoracao-dos-13-anos-da-feira-agroecologica-3/
X-WR-CALDESC:Comemoração dos 13 anos da Feira Agroecológica &#8211; Câmpus de Irati
BEGIN:VEVENT
DTSTART:20220721T000000
DTEND:20220721T000000
SUMMARY:Comemoração dos 13 anos da Feira Agroecológica &#8211; Câmpus de Irati
DESCRIPTION:
LOCATION:Rua Professora Maria Roza Zanon de Almeida - CEP 84505-677
END:VEVENT
END:VCALENDAR
