BEGIN:VCALENDAR
VERSION:2.0
PRODID:-//Unicentro
CALSCALE:GREGORIAN
METHOD:PUBLISH
X-WR-CALNAME:Unicentro
X-ORIGINAL-URL:https://www3.unicentro.br/eventos/comemoracao-dos-13-anos-da-feira-agroecologica-2/
X-WR-CALDESC:Comemoração dos 13 anos da Feira Agroecológica &#8211; Câmpus Cedeteg
BEGIN:VEVENT
DTSTART:20220714T000000
DTEND:20220714T000000
SUMMARY:Comemoração dos 13 anos da Feira Agroecológica &#8211; Câmpus Cedeteg
DESCRIPTION:
LOCATION:Alameda Élio Antonio Dalla Vecchia, 838 - CEP 85040-167 - Bairro - Vila Carli, Guarapuava - PR
END:VEVENT
END:VCALENDAR
