BEGIN:VCALENDAR
VERSION:2.0
PRODID:-//Unicentro
CALSCALE:GREGORIAN
METHOD:PUBLISH
X-WR-CALNAME:Unicentro
X-ORIGINAL-URL:https://www3.unicentro.br/eventos/recepcao-aos-calouros-campus-de-irati/
X-WR-CALDESC:Recepção aos Calouros &#8211; Câmpus de Irati
BEGIN:VEVENT
DTSTART:20220623T103000
DTEND:20220623T190000
SUMMARY:Recepção aos Calouros &#8211; Câmpus de Irati
DESCRIPTION:
LOCATION:
END:VEVENT
END:VCALENDAR
