BEGIN:VCALENDAR
VERSION:2.0
PRODID:-//Unicentro
CALSCALE:GREGORIAN
METHOD:PUBLISH
X-WR-CALNAME:Unicentro
X-ORIGINAL-URL:https://www3.unicentro.br/eventos/arraia-campus-santa-cruz-e-recepcao-dos-calouros/
X-WR-CALDESC:Arraiá Campus Santa Cruz e Recepção dos Calouros
BEGIN:VEVENT
DTSTART:20220622T090000
DTEND:20220622T223000
SUMMARY:Arraiá Campus Santa Cruz e Recepção dos Calouros
DESCRIPTION:
LOCATION:
END:VEVENT
END:VCALENDAR
