BEGIN:VCALENDAR
VERSION:2.0
PRODID:-//Unicentro
CALSCALE:GREGORIAN
METHOD:PUBLISH
X-WR-CALNAME:Unicentro
X-ORIGINAL-URL:https://www3.unicentro.br/eventos/colacao-de-grau-intersetorial-do-campus-santa-cruz-sehla-g-3-3-2-2-2-2-2-2/
X-WR-CALDESC:Colação de Grau dos Formandos do Campus Avançado de Prudentópolis
BEGIN:VEVENT
DTSTART:20220819T190000
DTEND:20220819T210000
SUMMARY:Colação de Grau dos Formandos do Campus Avançado de Prudentópolis
DESCRIPTION:
LOCATION:
END:VEVENT
END:VCALENDAR
