BEGIN:VCALENDAR
VERSION:2.0
PRODID:-//Unicentro
CALSCALE:GREGORIAN
METHOD:PUBLISH
X-WR-CALNAME:Unicentro
X-ORIGINAL-URL:https://www3.unicentro.br/eventos/colacao-de-grau-intersetorial-do-campus-santa-cruz-sehla-g-3-3-2/
X-WR-CALDESC:Colação de Grau dos Formandos do Setor de Ciências da Saúde, SES/I
BEGIN:VEVENT
DTSTART:20220805T190000
DTEND:20220805T210000
SUMMARY:Colação de Grau dos Formandos do Setor de Ciências da Saúde, SES/I
DESCRIPTION:
LOCATION:
END:VEVENT
END:VCALENDAR
