BEGIN:VCALENDAR
VERSION:2.0
PRODID:-//Unicentro
CALSCALE:GREGORIAN
METHOD:PUBLISH
X-WR-CALNAME:Unicentro
X-ORIGINAL-URL:https://www3.unicentro.br/eventos/colacao-de-grau-intersetorial-do-campus-cedeteg/
X-WR-CALDESC:Colação de Grau Intersetorial do Campus Cedeteg
BEGIN:VEVENT
DTSTART:20220804T190000
DTEND:20220804T210000
SUMMARY:Colação de Grau Intersetorial do Campus Cedeteg
DESCRIPTION:
LOCATION:
END:VEVENT
END:VCALENDAR
