BEGIN:VCALENDAR
VERSION:2.0
PRODID:-//Unicentro
CALSCALE:GREGORIAN
METHOD:PUBLISH
X-WR-CALNAME:Unicentro
X-ORIGINAL-URL:https://www3.unicentro.br/eventos/colacao-de-grau-intersetorial-do-campus-santa-cruz-sehla-g-2-2/
X-WR-CALDESC:Colação de Grau Intersetorial do Campus de Irati
BEGIN:VEVENT
DTSTART:20220628T193000
DTEND:20220629T213000
SUMMARY:Colação de Grau Intersetorial do Campus de Irati
DESCRIPTION:
LOCATION:
END:VEVENT
END:VCALENDAR
