BEGIN:VCALENDAR
VERSION:2.0
PRODID:-//Unicentro
CALSCALE:GREGORIAN
METHOD:PUBLISH
X-WR-CALNAME:Unicentro
X-ORIGINAL-URL:https://www3.unicentro.br/eventos/colacao-de-grau-intersetorial-do-campus-cedeteg-seet-g/
X-WR-CALDESC:Colação de Grau dos Setor de Ciências Exatas e de Tecnologia, Seet/G
BEGIN:VEVENT
DTSTART:20220728T190000
DTEND:20220728T210000
SUMMARY:Colação de Grau dos Setor de Ciências Exatas e de Tecnologia, Seet/G
DESCRIPTION:
LOCATION:
END:VEVENT
END:VCALENDAR
