BEGIN:VCALENDAR
VERSION:2.0
PRODID:-//Unicentro
CALSCALE:GREGORIAN
METHOD:PUBLISH
X-WR-CALNAME:Unicentro
X-ORIGINAL-URL:https://www3.unicentro.br/eventos/colacao-de-grau-seaa-g/
X-WR-CALDESC:Colação de Grau dos Setor de Ciências Agrárias e Ambientais, Seaa/G
BEGIN:VEVENT
DTSTART:20220727T190000
DTEND:20220727T210000
SUMMARY:Colação de Grau dos Setor de Ciências Agrárias e Ambientais, Seaa/G
DESCRIPTION:
LOCATION:
END:VEVENT
END:VCALENDAR
