BEGIN:VCALENDAR
VERSION:2.0
PRODID:-//Unicentro
CALSCALE:GREGORIAN
METHOD:PUBLISH
X-WR-CALNAME:Unicentro
X-ORIGINAL-URL:https://www3.unicentro.br/eventos/colacao-de-grau-ses-g/
X-WR-CALDESC:Colação de Grau dos Setor de Ciências da Saúde, SES/G
BEGIN:VEVENT
DTSTART:20220721T190000
DTEND:20220721T210000
SUMMARY:Colação de Grau dos Setor de Ciências da Saúde, SES/G
DESCRIPTION:
LOCATION:
END:VEVENT
END:VCALENDAR
