BEGIN:VCALENDAR
VERSION:2.0
PRODID:-//Unicentro
CALSCALE:GREGORIAN
METHOD:PUBLISH
X-WR-CALNAME:Unicentro
X-ORIGINAL-URL:https://www3.unicentro.br/eventos/siepe-2021/
X-WR-CALDESC:Siepe 2021
BEGIN:VEVENT
DTSTART:20211122T080000
DTEND:20211126T210000
SUMMARY:Siepe 2021
DESCRIPTION:Inscrições para submissão de trabalhos até 30/09.
LOCATION:
END:VEVENT
END:VCALENDAR
