BEGIN:VCALENDAR
VERSION:2.0
PRODID:-//Unicentro
CALSCALE:GREGORIAN
METHOD:PUBLISH
X-WR-CALNAME:Unicentro
X-ORIGINAL-URL:https://www3.unicentro.br/eventos/bloomsday2019/
X-WR-CALDESC:Bloomsday 2019/Edição 8
BEGIN:VEVENT
DTSTART:20190611T190000
DTEND:20190611T233000
SUMMARY:Bloomsday 2019/Edição 8
DESCRIPTION:Desde sua primeira edição, o evento faz parte das comemorações de aniversário da Unicentro. O evento tem entrada gratuita e, como sempre, será aberto a todos.
LOCATION:Empório São Luiz -  Tv. Jaime Luiz Stolf ,34 - Centro, Irati - PR, 84500-000
END:VEVENT
END:VCALENDAR
