BEGIN:VCALENDAR
VERSION:2.0
PRODID:-//Unicentro
CALSCALE:GREGORIAN
METHOD:PUBLISH
X-WR-CALNAME:Unicentro
X-ORIGINAL-URL:https://www3.unicentro.br/eventos/roda-de-conversa-sobre-mobilidade-academica/
X-WR-CALDESC:Roda de Conversa Sobre: Mobilidade Acadêmica
BEGIN:VEVENT
DTSTART:20190613T190000
DTEND:20190613T220000
SUMMARY:Roda de Conversa Sobre: Mobilidade Acadêmica
DESCRIPTION:
LOCATION:PR 153, Km 7, s/n - Riozinho, Irati - PR, 84500-000
END:VEVENT
END:VCALENDAR
