BEGIN:VCALENDAR
VERSION:2.0
PRODID:-//Unicentro
CALSCALE:GREGORIAN
METHOD:PUBLISH
X-WR-CALNAME:Unicentro
X-ORIGINAL-URL:https://www3.unicentro.br/eventos/lancamento-do-programa-parana-fala-frances/
X-WR-CALDESC:Lançamento do Programa Paraná Fala Francês
BEGIN:VEVENT
DTSTART:20180605T190000
DTEND:20180605T230000
SUMMARY:Lançamento do Programa Paraná Fala Francês
DESCRIPTION:A Jornada da Língua Francesa (Journée de Langue Française), a ser realizada no dia 05 de junho de 2018, é fruto de uma iniciativa da Coordenação Institucional do Programa Paraná Fala Francês, em parceria com o Departamento de Letras de Guarapuava, e objetiva oferecer a docentes, discentes e funcionários da Unicentro um dia repleto de atividades acadêmicas e culturais voltadas, prioritariamente, (i) para o esclarecimento da importância de se aprender a língua francesa e (ii) para o lançamento do PFF na nossa Universidade.

LOCATION:Campus Santa Cruz - R. Salvatore Renna, 875 - Santa Cruz, Guarapuava - PR, 85015-430
END:VEVENT
END:VCALENDAR
