BEGIN:VCALENDAR
VERSION:2.0
PRODID:-//Unicentro
CALSCALE:GREGORIAN
METHOD:PUBLISH
X-WR-CALNAME:Unicentro
X-ORIGINAL-URL:https://www3.unicentro.br/eventos/v-simposio-internacional-de-estudos-eslavos/
X-WR-CALDESC:V Simpósio Internacional de Estudos Eslavos
BEGIN:VEVENT
DTSTART:20180607T000000
DTEND:20180608T000000
SUMMARY:V Simpósio Internacional de Estudos Eslavos
DESCRIPTION:A abertura oficial do evento e as palestras serão realizadas por webconferência. As apresentações de trabalhos ocorrerão concomitantemente em Varsóvia e em Irati. O simpósio será conduzido em polonês, português e inglês.
LOCATION:PR 153, Km 7, s/n - Riozinho, Irati - PR, 84500-000
END:VEVENT
END:VCALENDAR
